BEGIN:VCALENDAR
VERSION:2.0
PRODID:-//wp-events-plugin.com//7.2.3.1//EN
TZID:Europe/Berlin
X-WR-TIMEZONE:Europe/Berlin
BEGIN:VEVENT
UID:25@roter-von-rio.de
DTSTART;TZID=Europe/Berlin;VALUE=DATE:20241019
DTEND;TZID=Europe/Berlin;VALUE=DATE:20241020
DTSTAMP:20240205T144157Z
URL:https://roter-von-rio.de/events/2-vereinsheimschau/
SUMMARY:2. Vereinsheimschau
DESCRIPTION:ACHTUNG: ggf. wird der termin noch auf den 26.10.2024 verlegt. 
 Infos rechtzeitig hier.\n\nDie zweite Bewertungsrunde in 2024. Die Preisri
 chter bewerten die Aquarien unserer Mitglieder.
END:VEVENT
BEGIN:VTIMEZONE
TZID:Europe/Berlin
X-LIC-LOCATION:Europe/Berlin
BEGIN:DAYLIGHT
DTSTART:20240331T030000
TZOFFSETFROM:+0100
TZOFFSETTO:+0200
TZNAME:CEST
END:DAYLIGHT
END:VTIMEZONE
END:VCALENDAR