BEGIN:VCALENDAR
VERSION:2.0
PRODID:-//wp-events-plugin.com//7.2.3.1//EN
TZID:Europe/Berlin
X-WR-TIMEZONE:Europe/Berlin
BEGIN:VEVENT
UID:17@roter-von-rio.de
DTSTART;TZID=Europe/Berlin:20240413T110000
DTEND;TZID=Europe/Berlin:20240414T170000
DTSTAMP:20240307T114151Z
URL:https://roter-von-rio.de/events/ausstellung-mit-fisch-und-pflanzenboer
 se-3/
SUMMARY:Ausstellung mit Fisch- und Pflanzenbörse
DESCRIPTION:Die beliebte Ausstellung mit der Möglichkeit Fische\, Pflanzen
  und Korallen aus Vereinsbeständen zu erwerben findet wieder statt.\n\nF
 ür das leibliche Wohl ebenfalls gesorgt.\n\n[embeddoc url="https://roter-
 von-rio.de/wp-content/uploads/2024/02/Boersenplakat_04_2024.pdf" download=
 "all" viewer="google"]
LOCATION:Vereinsheim des Roten von Rio Hattingen e.V.\, Waldstr. 58\, Hatti
 ngen\, NRW\, 45525\, Deutschland
X-APPLE-STRUCTURED-LOCATION;VALUE=URI;X-ADDRESS=Waldstr. 58\, Hattingen\, N
 RW\, 45525\, Deutschland;X-APPLE-RADIUS=100;X-TITLE=Vereinsheim des Roten 
 von Rio Hattingen e.V.:geo:0,0
END:VEVENT
BEGIN:VTIMEZONE
TZID:Europe/Berlin
X-LIC-LOCATION:Europe/Berlin
BEGIN:DAYLIGHT
DTSTART:20240331T030000
TZOFFSETFROM:+0100
TZOFFSETTO:+0200
TZNAME:CEST
END:DAYLIGHT
END:VTIMEZONE
END:VCALENDAR