BEGIN:VCALENDAR
VERSION:2.0
PRODID:-//wp-events-plugin.com//7.2.3.1//EN
TZID:Europe/Berlin
X-WR-TIMEZONE:Europe/Berlin
BEGIN:VEVENT
UID:26@roter-von-rio.de
DTSTART;TZID=Europe/Berlin:20241102T110000
DTEND;TZID=Europe/Berlin:20241103T170000
DTSTAMP:20240916T082504Z
URL:https://roter-von-rio.de/events/ausstellung-mit-fisch-und-pflanzenboer
 se-4/
SUMMARY:Ausstellung mit Fisch- und Pflanzenbörse
DESCRIPTION:Die zweite und letzte Chance auf Fische\, Korallen und Pflanzen
  aus Vereinsbeständen in diesem Jahr. Außerdem natürlich gerne Beratung
  und Austausch rund um Aquaristik und Terraristik.\n\nGäste sind herzlich
 e willkommen!\n\n[embeddoc url="https://roter-von-rio.de/wp-content/upload
 s/2024/09/Boersenplakat_11_2024.pdf" download="all" viewer="google"]
LOCATION:Vereinsheim des Roten von Rio Hattingen e.V.\, Waldstr. 58\, Hatti
 ngen\, NRW\, 45525\, Deutschland
X-APPLE-STRUCTURED-LOCATION;VALUE=URI;X-ADDRESS=Waldstr. 58\, Hattingen\, N
 RW\, 45525\, Deutschland;X-APPLE-RADIUS=100;X-TITLE=Vereinsheim des Roten 
 von Rio Hattingen e.V.:geo:0,0
END:VEVENT
BEGIN:VTIMEZONE
TZID:Europe/Berlin
X-LIC-LOCATION:Europe/Berlin
BEGIN:STANDARD
DTSTART:20241027T020000
TZOFFSETFROM:+0200
TZOFFSETTO:+0100
TZNAME:CET
END:STANDARD
END:VTIMEZONE
END:VCALENDAR