BEGIN:VCALENDAR
VERSION:2.0
PRODID:-//wp-events-plugin.com//7.2.3.1//EN
TZID:Europe/Berlin
X-WR-TIMEZONE:Europe/Berlin
BEGIN:VEVENT
UID:49@roter-von-rio.de
DTSTART;TZID=Europe/Berlin:20260313T190000
DTEND;TZID=Europe/Berlin:20260313T220000
DTSTAMP:20260225T094907Z
URL:https://roter-von-rio.de/events/reisebericht-brasilien-xingu-zocantins
 -von-uwe-werner/
SUMMARY:Reisebericht: Brasilien Xingu Zocantins (von Uwe Werner)
DESCRIPTION:
LOCATION:Vereinsheim des Roten von Rio Hattingen e.V.\, Waldstr. 58\, Hatti
 ngen\, NRW\, 45525\, Deutschland
X-APPLE-STRUCTURED-LOCATION;VALUE=URI;X-ADDRESS=Waldstr. 58\, Hattingen\, N
 RW\, 45525\, Deutschland;X-APPLE-RADIUS=100;X-TITLE=Vereinsheim des Roten 
 von Rio Hattingen e.V.:geo:0,0
END:VEVENT
BEGIN:VTIMEZONE
TZID:Europe/Berlin
X-LIC-LOCATION:Europe/Berlin
BEGIN:STANDARD
DTSTART:20251026T020000
TZOFFSETFROM:+0200
TZOFFSETTO:+0100
TZNAME:CET
END:STANDARD
END:VTIMEZONE
END:VCALENDAR