BEGIN:VCALENDAR
VERSION:2.0
PRODID:-//wp-events-plugin.com//7.2.3.1//EN
TZID:Europe/Berlin
X-WR-TIMEZONE:Europe/Berlin
BEGIN:VEVENT
UID:27@roter-von-rio.de
DTSTART;TZID=Europe/Berlin:20241213T190000
DTEND;TZID=Europe/Berlin:20241213T220000
DTSTAMP:20240205T144634Z
URL:https://roter-von-rio.de/events/weihnachtsfeier-2/
SUMMARY:Weihnachtsfeier
DESCRIPTION:Gemütlicher Ausklang des Jahres bei unseren Weihnachtsfeier. L
 eckeres Essen und festliches Ambiente inbegriffen.
LOCATION:Vereinsheim des Roten von Rio Hattingen e.V.\, Waldstr. 58\, Hatti
 ngen\, NRW\, 45525\, Deutschland
X-APPLE-STRUCTURED-LOCATION;VALUE=URI;X-ADDRESS=Waldstr. 58\, Hattingen\, N
 RW\, 45525\, Deutschland;X-APPLE-RADIUS=100;X-TITLE=Vereinsheim des Roten 
 von Rio Hattingen e.V.:geo:0,0
END:VEVENT
BEGIN:VTIMEZONE
TZID:Europe/Berlin
X-LIC-LOCATION:Europe/Berlin
BEGIN:STANDARD
DTSTART:20241027T020000
TZOFFSETFROM:+0200
TZOFFSETTO:+0100
TZNAME:CET
END:STANDARD
END:VTIMEZONE
END:VCALENDAR